BEGIN:VCALENDAR
VERSION:2.0
PRODID:-//Tauchsportgruppe Hellweg Unna - ECPv6.15.20//NONSGML v1.0//EN
CALSCALE:GREGORIAN
METHOD:PUBLISH
X-WR-CALNAME:Tauchsportgruppe Hellweg Unna
X-ORIGINAL-URL:http://www.tauchen-unna.org
X-WR-CALDESC:Veranstaltungen für Tauchsportgruppe Hellweg Unna
REFRESH-INTERVAL;VALUE=DURATION:PT1H
X-Robots-Tag:noindex
X-PUBLISHED-TTL:PT1H
BEGIN:VTIMEZONE
TZID:Europe/Berlin
BEGIN:DAYLIGHT
TZOFFSETFROM:+0100
TZOFFSETTO:+0200
TZNAME:CEST
DTSTART:20240331T010000
END:DAYLIGHT
BEGIN:STANDARD
TZOFFSETFROM:+0200
TZOFFSETTO:+0100
TZNAME:CET
DTSTART:20241027T010000
END:STANDARD
BEGIN:DAYLIGHT
TZOFFSETFROM:+0100
TZOFFSETTO:+0200
TZNAME:CEST
DTSTART:20250330T010000
END:DAYLIGHT
BEGIN:STANDARD
TZOFFSETFROM:+0200
TZOFFSETTO:+0100
TZNAME:CET
DTSTART:20251026T010000
END:STANDARD
BEGIN:DAYLIGHT
TZOFFSETFROM:+0100
TZOFFSETTO:+0200
TZNAME:CEST
DTSTART:20260329T010000
END:DAYLIGHT
BEGIN:STANDARD
TZOFFSETFROM:+0200
TZOFFSETTO:+0100
TZNAME:CET
DTSTART:20261025T010000
END:STANDARD
END:VTIMEZONE
BEGIN:VEVENT
DTSTART;TZID=Europe/Berlin:20251123T100000
DTEND;TZID=Europe/Berlin:20251123T150000
DTSTAMP:20260423T124141
CREATED:20250902T071742Z
LAST-MODIFIED:20250902T071742Z
UID:691-1763892000-1763910000@www.tauchen-unna.org
SUMMARY:Abtauchen in der Sorpe
DESCRIPTION:Treffpunkt: 10:00 Uhr Vereinsheim oder 11:00 Uhr an der Sorpe (Wintertauchplatz)
URL:http://www.tauchen-unna.org/termin/abtauchen-in-der-sorpe-2
LOCATION:Wintertauchplatz Sorpe\, Am Sorpesee 181\, Sundern\, 59846\, Deutschland
END:VEVENT
END:VCALENDAR