BEGIN:VCALENDAR
VERSION:2.0
PRODID:-//Tauchsportgruppe Hellweg Unna - ECPv6.15.20//NONSGML v1.0//EN
CALSCALE:GREGORIAN
METHOD:PUBLISH
X-WR-CALNAME:Tauchsportgruppe Hellweg Unna
X-ORIGINAL-URL:http://www.tauchen-unna.org
X-WR-CALDESC:Veranstaltungen für Tauchsportgruppe Hellweg Unna
REFRESH-INTERVAL;VALUE=DURATION:PT1H
X-Robots-Tag:noindex
X-PUBLISHED-TTL:PT1H
BEGIN:VTIMEZONE
TZID:Europe/Berlin
BEGIN:DAYLIGHT
TZOFFSETFROM:+0100
TZOFFSETTO:+0200
TZNAME:CEST
DTSTART:20240331T010000
END:DAYLIGHT
BEGIN:STANDARD
TZOFFSETFROM:+0200
TZOFFSETTO:+0100
TZNAME:CET
DTSTART:20241027T010000
END:STANDARD
BEGIN:DAYLIGHT
TZOFFSETFROM:+0100
TZOFFSETTO:+0200
TZNAME:CEST
DTSTART:20250330T010000
END:DAYLIGHT
BEGIN:STANDARD
TZOFFSETFROM:+0200
TZOFFSETTO:+0100
TZNAME:CET
DTSTART:20251026T010000
END:STANDARD
BEGIN:DAYLIGHT
TZOFFSETFROM:+0100
TZOFFSETTO:+0200
TZNAME:CEST
DTSTART:20260329T010000
END:DAYLIGHT
BEGIN:STANDARD
TZOFFSETFROM:+0200
TZOFFSETTO:+0100
TZNAME:CET
DTSTART:20261025T010000
END:STANDARD
END:VTIMEZONE
BEGIN:VEVENT
DTSTART;TZID=Europe/Berlin:20250615T110000
DTEND;TZID=Europe/Berlin:20250615T150000
DTSTAMP:20260425T173710
CREATED:20250321T072737Z
LAST-MODIFIED:20250321T072737Z
UID:671-1749985200-1749999600@www.tauchen-unna.org
SUMMARY:Vereinsmeisterschaften Freigewässerübung + Tauchen in der Henne
DESCRIPTION:Wir treffen uns um 10 Uhr am Vereinsheim bzw. um 11 Uhr an der Henne
URL:http://www.tauchen-unna.org/termin/vereinsmeisterschaften-freigewaesseruebung-tauchen-in-der-henne
LOCATION:Tauchplatz Henne\, Berghauser Bucht 3\, Meschede\, NRW\, 59872\, Deutschland
END:VEVENT
BEGIN:VEVENT
DTSTART;TZID=Europe/Berlin:20250616T200000
DTEND;TZID=Europe/Berlin:20250616T213000
DTSTAMP:20260425T173710
CREATED:20250321T073027Z
LAST-MODIFIED:20250321T073227Z
UID:673-1750104000-1750109400@www.tauchen-unna.org
SUMMARY:Vereinsmeisterschaften im Hallenbad
DESCRIPTION:Während der Trainingszeit im Hallenbad
URL:http://www.tauchen-unna.org/termin/vereinsmeisterschaften-hallenbad-3
LOCATION:Hallenbad Unna\, Bergenkamp 7\, Unna\, NRW\, 59423\, Deutschland
END:VEVENT
BEGIN:VEVENT
DTSTART;TZID=Europe/Berlin:20250623T200000
DTEND;TZID=Europe/Berlin:20250623T213000
DTSTAMP:20260425T173710
CREATED:20250321T073158Z
LAST-MODIFIED:20250321T073245Z
UID:675-1750708800-1750714200@www.tauchen-unna.org
SUMMARY:Vereinsmeisterschaften im Hallenbad
DESCRIPTION:Während der Trainingszeit im Hallenbad
URL:http://www.tauchen-unna.org/termin/vereinsmeisterschaften-im-hallenbad-2
LOCATION:Hallenbad Unna\, Bergenkamp 7\, Unna\, NRW\, 59423\, Deutschland
END:VEVENT
BEGIN:VEVENT
DTSTART;VALUE=DATE:20250625
DTEND;VALUE=DATE:20250630
DTSTAMP:20260425T173710
CREATED:20240806T110724Z
LAST-MODIFIED:20250209T163336Z
UID:641-1750809600-1751241599@www.tauchen-unna.org
SUMMARY:Vereinsfahrt nach Nordhausen
DESCRIPTION:Infos und Anmeldung (bis 20.02.2025) über Peter Bock.
URL:http://www.tauchen-unna.org/termin/vereinsfahrt-nach-nordhausen-2
LOCATION:Gasthof Am Kesselberg\, Wehrstraße 7\, Nordhausen\, Thüringen\, 99734
END:VEVENT
BEGIN:VEVENT
DTSTART;TZID=Europe/Berlin:20250630T200000
DTEND;TZID=Europe/Berlin:20250630T213000
DTSTAMP:20260425T173710
CREATED:20250321T073354Z
LAST-MODIFIED:20250321T073354Z
UID:679-1751313600-1751319000@www.tauchen-unna.org
SUMMARY:Vereinsmeisterschaften im Hallenbad
DESCRIPTION:Während der Trainingszeit im Hallenbad
URL:http://www.tauchen-unna.org/termin/vereinsmeisterschaften-im-hallenbad-3
LOCATION:Hallenbad Unna\, Bergenkamp 7\, Unna\, NRW\, 59423\, Deutschland
END:VEVENT
END:VCALENDAR