BEGIN:VCALENDAR
VERSION:2.0
PRODID:-//Tauchsportgruppe Hellweg Unna - ECPv6.15.20//NONSGML v1.0//EN
CALSCALE:GREGORIAN
METHOD:PUBLISH
X-WR-CALNAME:Tauchsportgruppe Hellweg Unna
X-ORIGINAL-URL:http://www.tauchen-unna.org
X-WR-CALDESC:Veranstaltungen für Tauchsportgruppe Hellweg Unna
REFRESH-INTERVAL;VALUE=DURATION:PT1H
X-Robots-Tag:noindex
X-PUBLISHED-TTL:PT1H
BEGIN:VTIMEZONE
TZID:Europe/Berlin
BEGIN:DAYLIGHT
TZOFFSETFROM:+0100
TZOFFSETTO:+0200
TZNAME:CEST
DTSTART:20240331T010000
END:DAYLIGHT
BEGIN:STANDARD
TZOFFSETFROM:+0200
TZOFFSETTO:+0100
TZNAME:CET
DTSTART:20241027T010000
END:STANDARD
BEGIN:DAYLIGHT
TZOFFSETFROM:+0100
TZOFFSETTO:+0200
TZNAME:CEST
DTSTART:20250330T010000
END:DAYLIGHT
BEGIN:STANDARD
TZOFFSETFROM:+0200
TZOFFSETTO:+0100
TZNAME:CET
DTSTART:20251026T010000
END:STANDARD
BEGIN:DAYLIGHT
TZOFFSETFROM:+0100
TZOFFSETTO:+0200
TZNAME:CEST
DTSTART:20260329T010000
END:DAYLIGHT
BEGIN:STANDARD
TZOFFSETFROM:+0200
TZOFFSETTO:+0100
TZNAME:CET
DTSTART:20261025T010000
END:STANDARD
END:VTIMEZONE
BEGIN:VEVENT
DTSTART;TZID=Europe/Berlin:20250226T193000
DTEND;TZID=Europe/Berlin:20250226T210000
DTSTAMP:20260425T235344
CREATED:20250202T170938Z
LAST-MODIFIED:20250202T171228Z
UID:654-1740598200-1740603600@www.tauchen-unna.org
SUMMARY:Jahreshauptversammlung 2025
DESCRIPTION:Der Vorstand lädt ein zur diesjährigen Jahreshauptversammlung am 26.02.2025 um 19:30 Uhr im Vereinsheim. \npdf-Einladung
URL:http://www.tauchen-unna.org/termin/jahreshauptversammlung-2025
LOCATION:Hellweg Realschule Unna\, Königsborner Str. 12\, Unna\, NRW\, 59427\, Deutschland
END:VEVENT
END:VCALENDAR