BEGIN:VCALENDAR
VERSION:2.0
PRODID:-//Tauchsportgruppe Hellweg Unna - ECPv6.15.20//NONSGML v1.0//EN
CALSCALE:GREGORIAN
METHOD:PUBLISH
X-ORIGINAL-URL:http://www.tauchen-unna.org
X-WR-CALDESC:Veranstaltungen für Tauchsportgruppe Hellweg Unna
REFRESH-INTERVAL;VALUE=DURATION:PT1H
X-Robots-Tag:noindex
X-PUBLISHED-TTL:PT1H
BEGIN:VTIMEZONE
TZID:Europe/Berlin
BEGIN:DAYLIGHT
TZOFFSETFROM:+0100
TZOFFSETTO:+0200
TZNAME:CEST
DTSTART:20240331T010000
END:DAYLIGHT
BEGIN:STANDARD
TZOFFSETFROM:+0200
TZOFFSETTO:+0100
TZNAME:CET
DTSTART:20241027T010000
END:STANDARD
BEGIN:DAYLIGHT
TZOFFSETFROM:+0100
TZOFFSETTO:+0200
TZNAME:CEST
DTSTART:20250330T010000
END:DAYLIGHT
BEGIN:STANDARD
TZOFFSETFROM:+0200
TZOFFSETTO:+0100
TZNAME:CET
DTSTART:20251026T010000
END:STANDARD
BEGIN:DAYLIGHT
TZOFFSETFROM:+0100
TZOFFSETTO:+0200
TZNAME:CEST
DTSTART:20260329T010000
END:DAYLIGHT
BEGIN:STANDARD
TZOFFSETFROM:+0200
TZOFFSETTO:+0100
TZNAME:CET
DTSTART:20261025T010000
END:STANDARD
END:VTIMEZONE
BEGIN:VEVENT
DTSTART;VALUE=DATE:20251009
DTEND;VALUE=DATE:20251010
DTSTAMP:20260423T152821
CREATED:20250902T070855Z
LAST-MODIFIED:20250902T070855Z
UID:689-1759968000-1760054399@www.tauchen-unna.org
SUMMARY:Vereinsfahrt nach Ibbenbüren ins NaturaGart
DESCRIPTION:Wer Interesse die Störe zu stören 😉 meldet sich bitte bei Peter Bock!
URL:http://www.tauchen-unna.org/termin/vereinsfahrt-nach-ibbenbueren-ins-naturagart
LOCATION:NaturaGart\, Riesenbecker Str. 63\, Ibbenbüren\, 49479\, Deutschland
END:VEVENT
END:VCALENDAR