BEGIN:VCALENDAR
VERSION:2.0
PRODID:-//Tauchsportgruppe Hellweg Unna - ECPv6.15.20//NONSGML v1.0//EN
CALSCALE:GREGORIAN
METHOD:PUBLISH
X-ORIGINAL-URL:http://www.tauchen-unna.org
X-WR-CALDESC:Veranstaltungen für Tauchsportgruppe Hellweg Unna
REFRESH-INTERVAL;VALUE=DURATION:PT1H
X-Robots-Tag:noindex
X-PUBLISHED-TTL:PT1H
BEGIN:VTIMEZONE
TZID:Europe/Berlin
BEGIN:DAYLIGHT
TZOFFSETFROM:+0100
TZOFFSETTO:+0200
TZNAME:CEST
DTSTART:20230326T010000
END:DAYLIGHT
BEGIN:STANDARD
TZOFFSETFROM:+0200
TZOFFSETTO:+0100
TZNAME:CET
DTSTART:20231029T010000
END:STANDARD
BEGIN:DAYLIGHT
TZOFFSETFROM:+0100
TZOFFSETTO:+0200
TZNAME:CEST
DTSTART:20240331T010000
END:DAYLIGHT
BEGIN:STANDARD
TZOFFSETFROM:+0200
TZOFFSETTO:+0100
TZNAME:CET
DTSTART:20241027T010000
END:STANDARD
BEGIN:DAYLIGHT
TZOFFSETFROM:+0100
TZOFFSETTO:+0200
TZNAME:CEST
DTSTART:20250330T010000
END:DAYLIGHT
BEGIN:STANDARD
TZOFFSETFROM:+0200
TZOFFSETTO:+0100
TZNAME:CET
DTSTART:20251026T010000
END:STANDARD
END:VTIMEZONE
BEGIN:VEVENT
DTSTART;TZID=Europe/Berlin:20241208T140000
DTEND;TZID=Europe/Berlin:20241208T210000
DTSTAMP:20260426T044735
CREATED:20240806T093152Z
LAST-MODIFIED:20240806T093152Z
UID:637-1733666400-1733691600@www.tauchen-unna.org
SUMMARY:Weihnachtstauchen in der Möhne
DESCRIPTION:Treffen ist um 14:00 Uhr am Vereinsheim oder um 15:00 Uhr am Tauchplatz Möhnesee\nAnschließend ist für 18:00 Uhr ein gemeinsames Abendessen im Brauhaus Zwiebel in Soest geplant. \nAnmeldeschluss für das Essen: ist der 30.09.2024 \nAnmeldung und Infos über Tobias per E-Mail oder WhatsApp
URL:http://www.tauchen-unna.org/termin/weihnachtstauchen-in-der-moehne
LOCATION:Tauchplatz Möhnese\, Arnsberger Str. 1a\, Möhnesee\, NRW\, 59519
END:VEVENT
END:VCALENDAR